BEGIN:VCALENDAR
VERSION:2.0
PRODID:-//Ampersand Studios Site - ECPv6.15.20//NONSGML v1.0//EN
CALSCALE:GREGORIAN
METHOD:PUBLISH
X-ORIGINAL-URL:https://amperstudios.com
X-WR-CALDESC:Events for Ampersand Studios Site
REFRESH-INTERVAL;VALUE=DURATION:PT1H
X-Robots-Tag:noindex
X-PUBLISHED-TTL:PT1H
BEGIN:VTIMEZONE
TZID:UTC
BEGIN:STANDARD
TZOFFSETFROM:+0000
TZOFFSETTO:+0000
TZNAME:UTC
DTSTART:20250101T000000
END:STANDARD
END:VTIMEZONE
BEGIN:VEVENT
DTSTART;TZID=UTC:20260521T083000
DTEND;TZID=UTC:20260521T203000
DTSTAMP:20260423T083224
CREATED:20260421T175103Z
LAST-MODIFIED:20260421T175103Z
UID:38832-1779352200-1779395400@amperstudios.com
SUMMARY:TEDxNashville: Idea Studio
DESCRIPTION:We’re opening up a limited opportunity for our community to join an upcoming session hosted by TEDxNashville. \nOn May 21\, Idea Studio brings together founders\, operators\, and creatives to explore what actually makes ideas stick\, and how to shape ones that last. \nThe evening will include: \n\nA short distillation of Be a Sequoia\, Not a Bonsai\nA live\, participatory discussion built around real-world challenges\nA curated group of attendees across business\, creativity\, and innovation\n\nAll attendees will receive a copy of the book\, and capacity is intentionally limited. \nHow to attend: \n\nClaim your trial membership using code TRIAL\nRegister for the event HERE \n\n\n\n\n\n\n\n\n\n\n 
URL:https://amperstudios.com/event/https-tedxnashville-com-event-idea-studio-sequoia-vs-bonsai/
LOCATION:Ampersand Studios – Nashville\, 1030 16th Avenue S.\, 2nd Floor\, TN 37212\, TN\, United States
ATTACH;FMTTYPE=image/png:https://amperstudios.com/wp-content/uploads/2026/04/idea-studio-graphic-1.png
END:VEVENT
END:VCALENDAR