BEGIN:VCALENDAR
VERSION:2.0
PRODID:-//Ampersand Studios Site - ECPv6.15.20//NONSGML v1.0//EN
CALSCALE:GREGORIAN
METHOD:PUBLISH
X-WR-CALNAME:Ampersand Studios Site
X-ORIGINAL-URL:https://amperstudios.com
X-WR-CALDESC:Events for Ampersand Studios Site
REFRESH-INTERVAL;VALUE=DURATION:PT1H
X-Robots-Tag:noindex
X-PUBLISHED-TTL:PT1H
BEGIN:VTIMEZONE
TZID:UTC
BEGIN:STANDARD
TZOFFSETFROM:+0000
TZOFFSETTO:+0000
TZNAME:UTC
DTSTART:20240101T000000
END:STANDARD
END:VTIMEZONE
BEGIN:VEVENT
DTSTART;TZID=UTC:20251016T173000
DTEND;TZID=UTC:20251016T200000
DTSTAMP:20260419T130202
CREATED:20251008T190146Z
LAST-MODIFIED:20251008T190146Z
UID:38278-1760635800-1760644800@amperstudios.com
SUMMARY:L'Epic & Ampersand Studios Present: Creative Hour
DESCRIPTION:The L’Epic x Ampersand Studios Creative Hour is where meaningful connection meets creative inspiration. We’ve replaced traditional networking with intentional conversation — a curated gathering for Miami’s creative industry to pause\, connect\, and recharge. \n​Join us for our first Creative Hour featuring a fireside chat with Tiffany K. Guillen\, Director\, Writer\, and Co-Founder of Creative X\, as she unpacks her latest project\, The Anatomy of a Dream. Together\, we’ll explore what it truly means to dream: the courage to pursue it\, the practical steps that make it real\, and how to refocus when your work fuels someone else’s vision instead of your own. \n​Join the movement\, bring a friend & get your creative juices flowing. \nRSVP
URL:https://amperstudios.com/event/lepic-ampersand-studios-present-creative-hour/
LOCATION:Ampersand Studios – Miami\, 31 NE 17th Street\, FL 33132\, United States
CATEGORIES:Ampersand Events
ATTACH;FMTTYPE=image/png:https://amperstudios.com/wp-content/uploads/2025/10/Creative-Hour-Invitation-Square.png
END:VEVENT
END:VCALENDAR